BEGIN:VCALENDAR
VERSION:2.0
PRODID:-//Odace - ECPv4.1.2//NONSGML v1.0//EN
CALSCALE:GREGORIAN
METHOD:PUBLISH
X-WR-CALNAME:Odace
X-ORIGINAL-URL:https://resodace.org
X-WR-CALDESC:Events for Odace
BEGIN:VEVENT
DTSTART;TZID=UTC+1:20230714T120000
DTEND;TZID=UTC+1:20230715T160000
DTSTAMP:20260419T163232
CREATED:20230418T125841
LAST-MODIFIED:20230420T065501
UID:2076-1689336000-1689436800@resodace.org
SUMMARY:Rencontre ODACE 2023
DESCRIPTION:formulaire d'inscription cliquez ici -> INSCRIPTION\n\nSamedi 15 juillet ouvert à tous\nVendredi 14 juillet : extra. pour les responsables\n
URL:https://resodace.org/evenement/rencontre-odace-2023/
LOCATION:47 bis rue de Grammont\, Luxeuil-les-Bains\, 70300\, France
CATEGORIES:convention
ATTACH;FMTTYPE=image/jpeg:https://resodace.org/wp-content/uploads/2023/04/Bandeau-v2-2023.jpg
ORGANIZER;CN="Odace":MAILTO:resodace@gmail.com
END:VEVENT
END:VCALENDAR