BEGIN:VCALENDAR
VERSION:2.0
PRODID:-//Odace - ECPv4.1.2//NONSGML v1.0//EN
CALSCALE:GREGORIAN
METHOD:PUBLISH
X-WR-CALNAME:Odace
X-ORIGINAL-URL:https://resodace.org
X-WR-CALDESC:Events for Odace
BEGIN:VEVENT
DTSTART;TZID=UTC+1:20210710T093000
DTEND;TZID=UTC+1:20210711T120000
DTSTAMP:20260419T201219
CREATED:20210528T080152
LAST-MODIFIED:20210528T080822
UID:1980-1625909400-1626004800@resodace.org
SUMMARY:Rencontre annuelle du réseau
DESCRIPTION:\nPour vous inscrire cliquez ici -> Inscription\n\n\n\n 
URL:https://resodace.org/evenement/rencontre-annuelle-du-reseau-5/
LOCATION:47 bis rue de Grammont\, Luxeuil-les-Bains\, 70300\, France
CATEGORIES:rencontre
ATTACH;FMTTYPE=image/png:https://resodace.org/wp-content/uploads/2021/05/Rencontre-Annuelle-Odace-2021-recto.png
ORGANIZER;CN="Odace":MAILTO:resodace@gmail.com
END:VEVENT
END:VCALENDAR