BEGIN:VCALENDAR
VERSION:2.0
PRODID:-//Odace - ECPv4.1.2//NONSGML v1.0//EN
CALSCALE:GREGORIAN
METHOD:PUBLISH
X-WR-CALNAME:Odace
X-ORIGINAL-URL:https://resodace.org
X-WR-CALDESC:Events for Odace
BEGIN:VEVENT
DTSTART;TZID=UTC+1:20220716T094500
DTEND;TZID=UTC+1:20220716T170000
DTSTAMP:20260419T182415
CREATED:20220624T092631
LAST-MODIFIED:20220624T092811
UID:2051-1657964700-1657990800@resodace.org
SUMMARY:Rencontre Annuelle du Réseau 2022
DESCRIPTION:cliquez ICI -> INSCRIPTION\n\n\n 
URL:https://resodace.org/evenement/renconre-annuelle-du-reseau-2022/
LOCATION:47 bis rue de Grammont\, Luxeuil-les-Bains\, 70300\, France
CATEGORIES:convention
ATTACH;FMTTYPE=image/jpeg:https://resodace.org/wp-content/uploads/2022/06/Rencontre-Annuelle-Odace-2022.jpg
ORGANIZER;CN="Odace":MAILTO:resodace@gmail.com
END:VEVENT
END:VCALENDAR