BEGIN:VCALENDAR
VERSION:2.0
PRODID:-//Odace - ECPv4.1.2//NONSGML v1.0//EN
CALSCALE:GREGORIAN
METHOD:PUBLISH
X-WR-CALNAME:Odace
X-ORIGINAL-URL:http://resodace.org
X-WR-CALDESC:Events for Odace
BEGIN:VEVENT
DTSTART;TZID=UTC+1:20161027T200000
DTEND;TZID=UTC+1:20161027T220000
DTSTAMP:20260421T124939
CREATED:20161007T141119
LAST-MODIFIED:20161007T141254
UID:1520-1477598400-1477605600@resodace.org
SUMMARY:TOURNEE RESKP FIN OCTOBRE 2016
DESCRIPTION:\n\nAU RUSSEY LE 27 OCTOBRE 2016
URL:http://resodace.org/evenement/tournee-reskp-fin-octobre-2016/
CATEGORIES:témoignage
END:VEVENT
END:VCALENDAR