BEGIN:VCALENDAR
VERSION:2.0
PRODID:-//Odace - ECPv4.1.2//NONSGML v1.0//EN
CALSCALE:GREGORIAN
METHOD:PUBLISH
X-WR-CALNAME:Odace
X-ORIGINAL-URL:http://resodace.org
X-WR-CALDESC:Events for Odace
BEGIN:VEVENT
DTSTART;TZID=UTC+1:20160402T090000
DTEND;TZID=UTC+1:20160403T160000
DTSTAMP:20260421T180514
CREATED:20160302T133355
LAST-MODIFIED:20160414T103721
UID:818-1459587600-1459699200@resodace.org
SUMMARY:Séminaire : Vous pouvez tous prophétiser
DESCRIPTION:Séminaire animé par Philippe BEAUSSIER et son équipe de ministère prophétique.\n\nL’esprit de la prophétie se raréfie par peur et par négligence alors que la Parole nous dit que plus nous approcherons de la fin des temps plus l’Esprit répandu sur toute chair se manifestera par ses dons.  "Dans ces jours-là\, je répandrai de mon Esprit sur mes serviteurs et mes servantes et ils prophétiseront"(Actes 2v18).\nPlutôt que d’abandonner la partie devant les faux prophètes et les mauvaises expériences mettons-nous à son école\, apprenons des serviteurs que Notre Seigneur nous a donné pour exercer notre oreille à l’écoute de sa voix.  Jérémie 25v4 "l’Eternel vous a envoyé ses serviteurs les prophètes et vous ne les avez pas écoutés" et Esaïe 50v4-5 & Job 4v12 "une parole est arrivée furtivement jusqu’à moi\, et mon oreille en a recueilli les sons légers’"\n\n• Portrait : Philippe Beaussier se convertit en 1976 dans l’Église Apostolique de Paris. Cette église croit aux 5 ministères de la Parole\, apôtre\, prophète\, évangéliste\, pasteur et enseignant. C’est au sein d’une équipe de prophètes que Philippe exerce le don de prophétie très rapidement...  Son ministère le conduira dans divers pays d’Europe Centrale et de l’Est et se développera au travers l’enseignement et l’implantation d’écoles de prophètes. A partir de 2007\, son ministère se développera en Guadeloupe.  Actuellement\, Philippe exerce un ministère itinérant de prophète et d’enseignement dans le domaine prophétique. Pour développer sa vision\, il a créé une association spéciale pour la formation des prophètes : « Théophile Ministère » dans laquelle il propose des formations à la pratique du ministère pour tous.\n\n• Infos pratiques  \n\nCoût du séminaire : Chaque participant est invité à contribuer selon ses moyens par une offrande libre aux frais d’organisation.\n\nRepas\, hébergements et garderie pour enfants possibles sur demande (plus de détails sur le programme pdf)\n\nVous êtes intéressés pour assister à ce séminaire? Merci de confirmer votre inscription\, jusqu'au 23 mars 2016\nLa confirmation de votre inscription au séminaire\, aux repas\, ou à l’hébergement\, est nécessaire pour faciliter la bonne organisation du week-end.
URL:http://resodace.org/evenement/seminaire-vous-pouvez-tous-prophetiser/
LOCATION:47 bis rue de Grammont\, Luxeuil-les-Bains\, 70300\, France
CATEGORIES:séminaire
ATTACH;FMTTYPE=image/gif:http://resodace.org/wp-content/uploads/2015/05/events-odace-seminaire-3.gif
ORGANIZER;CN="Odace":MAILTO:resodace@gmail.com
END:VEVENT
END:VCALENDAR