BEGIN:VCALENDAR
VERSION:2.0
PRODID:-//Odace - ECPv4.1.2//NONSGML v1.0//EN
CALSCALE:GREGORIAN
METHOD:PUBLISH
X-WR-CALNAME:Odace
X-ORIGINAL-URL:http://resodace.org
X-WR-CALDESC:Events for Odace
BEGIN:VEVENT
DTSTART;TZID=UTC+1:20190821T170000
DTEND;TZID=UTC+1:20190825T110000
DTSTAMP:20260420T164130
CREATED:20190329T103804
LAST-MODIFIED:20190417T162441
UID:1598-1566406800-1566730800@resodace.org
SUMMARY:Séminaire THEODACE
DESCRIPTION:\n\n
URL:http://resodace.org/evenement/seminaire-theodace/
LOCATION: 500 chemin du Moulin\, Gagnières\, 30160\, France
CATEGORIES:séminaire
END:VEVENT
END:VCALENDAR