BEGIN:VCALENDAR
VERSION:2.0
PRODID:-//Odace - ECPv4.1.2//NONSGML v1.0//EN
CALSCALE:GREGORIAN
METHOD:PUBLISH
X-WR-CALNAME:Odace
X-ORIGINAL-URL:http://resodace.org
X-WR-CALDESC:Events for Odace
BEGIN:VEVENT
DTSTART;VALUE=DATE:20160219
DTEND;VALUE=DATE:20160221
DTSTAMP:20260421T223503
CREATED:20150515
LAST-MODIFIED:20160414
UID:34-1455840000-1456099199@resodace.org
SUMMARY:Séminaire : Tous prophètes
DESCRIPTION:SÉMINAIRE PROPHÉTIQUE\nThème :"Tous prophètes"\n\nOrateur : Philippe Beaussier\n\nOrganisateur : Théophile Ministère\n\n 
URL:http://resodace.org/evenement/seminaire-prophetique/
LOCATION:133 chemin de Vallier\, Sampzon\, 07120\, France
CATEGORIES:séminaire
END:VEVENT
END:VCALENDAR