BEGIN:VCALENDAR
VERSION:2.0
PRODID:-//Odace - ECPv4.1.2//NONSGML v1.0//EN
CALSCALE:GREGORIAN
METHOD:PUBLISH
X-WR-CALNAME:Odace
X-ORIGINAL-URL:http://resodace.org
X-WR-CALDESC:Events for Odace
BEGIN:VEVENT
DTSTART;TZID=UTC+1:20111119T100000
DTEND;TZID=UTC+1:20111119T160000
DTSTAMP:20260422T171057
CREATED:20111101T183451
LAST-MODIFIED:20160430T183841
UID:1177-1321696800-1321718400@resodace.org
SUMMARY:Séminaire prophétique avec Steve et Rita Fedele
DESCRIPTION:Thème :\n\nConseil prophétique pour  membres engagés; il s'agira de rechercher auprès du Saint Esprit la révélation ou la confirmation de notre appel et des dons qui s'y rattachent.\n\n\nOrateur :\n\n-Steve et Rita FEDELE ministère apostolique et prophétique\n\nDate :Samedi 19 novembre 2011 de 10h à 16h\n\nInscription:la confirmation de votre participation est nécessaire pour faciliter l'organisation de cette rencontre.
URL:http://resodace.org/evenement/seminaire-prophetique-avec-steve-et-rita-fedele/
LOCATION:47 bis rue de Grammont\, Luxeuil-les-Bains\, 70300\, France
CATEGORIES:séminaire
ORGANIZER;CN="Odace":MAILTO:resodace@gmail.com
END:VEVENT
END:VCALENDAR