BEGIN:VCALENDAR
VERSION:2.0
PRODID:-//Odace - ECPv4.1.2//NONSGML v1.0//EN
CALSCALE:GREGORIAN
METHOD:PUBLISH
X-WR-CALNAME:Odace
X-ORIGINAL-URL:http://resodace.org
X-WR-CALDESC:Events for Odace
BEGIN:VEVENT
DTSTART;TZID=UTC+1:20170325T140000
DTEND;TZID=UTC+1:20170325T220000
DTSTAMP:20260421T014654
CREATED:20170323T203200
LAST-MODIFIED:20170323T203200
UID:1553-1490450400-1490479200@resodace.org
SUMMARY:Séminaire prophétique
DESCRIPTION: 
URL:http://resodace.org/evenement/seminaire-prophetique-3/
LOCATION:47 bis rue de Grammont\, Luxeuil-les-Bains\, 70300\, France
CATEGORIES:séminaire
END:VEVENT
END:VCALENDAR