BEGIN:VCALENDAR
VERSION:2.0
PRODID:-//Odace - ECPv4.1.2//NONSGML v1.0//EN
CALSCALE:GREGORIAN
METHOD:PUBLISH
X-WR-CALNAME:Odace
X-ORIGINAL-URL:http://resodace.org
X-WR-CALDESC:Events for Odace
BEGIN:VEVENT
DTSTART;TZID=UTC+1:20170128T143000
DTEND;TZID=UTC+1:20170128T180000
DTSTAMP:20260421T083704
CREATED:20170124T094230
LAST-MODIFIED:20170124T094230
UID:1534-1485613800-1485626400@resodace.org
SUMMARY:Séminaire prophétique
DESCRIPTION: \n\n\n\nlibre participation aux frais
URL:http://resodace.org/evenement/seminaire-prophetique-2/
LOCATION:47 bis rue de Grammont\, Luxeuil-les-Bains\, 70300\, France
CATEGORIES:séminaire
END:VEVENT
END:VCALENDAR