BEGIN:VCALENDAR
VERSION:2.0
PRODID:-//Odace - ECPv4.1.2//NONSGML v1.0//EN
CALSCALE:GREGORIAN
METHOD:PUBLISH
X-WR-CALNAME:Odace
X-ORIGINAL-URL:http://resodace.org
X-WR-CALDESC:Events for Odace
BEGIN:VEVENT
DTSTART;VALUE=DATE:20121005
DTEND;VALUE=DATE:20121007
DTSTAMP:20260422T045637
CREATED:20121001
LAST-MODIFIED:20160414
UID:848-1349395200-1349654399@resodace.org
SUMMARY:Séminaire : Les secrets de famille
DESCRIPTION:Quelle famille n’a pas ses secrets ? Pourtant\, petits ou grands\, ils risquent d’engendrer de lourds conflits familiaux et individuels qui pèsent sur plusieurs générations.... Chacun a le droit de connaître ce qui touche à ses origines et à son devenir. Ces données lui appartiennent. L’oratrice invitée\, Marty Delmon\, développe le sujet des secrets de famille en s’appuyant sur le travail de recherche fourni pour son livre : « Des mensonges enfouis ».\n\nD'origine américaine\, Marty Delmon est auteur d'une vingtaine de livres en anglais et en français. Elle anime en France depuis quelques années des séminaires sur la guérison intérieure.\nDans son livre "Des mensonges enfouis"\, Marty Delmon nous emmène dans un voyage qui nous met l'âme à nu en compagnie de sept femmes qui font face au drame vécu dans leur enfance. Ce livre est explicite\, d'une honnêteté crue. Il met à jour les noirs secrets de la pire des perversions sexuelles\, l'inceste. Le mot lui-même évoque le désordre\, la honte profonde et la répugnance. La victime pourrait être votre voisin\, votre patron\, votre mère ou vous-même. L’auteur révèle les mensonges qui ont privé ces femmes de paix\, de leur propre estime\, d'amour et de but dans la vie. Seul Christ peut remplacer les mensonges enfouis par la Vérité.\n\nProgramme : \n\nVendredi 5 : 18h00 : Accueil et dîner - 20h00 : Comment extraire les mensonges enfouis ?\nSamedi 6 : 9h30-12h00 : Suite de l’enseignement - 12h30 : Déjeuner - 14h00-18h00 : Mise en pratique - 19h00 : Dîner\nDes temps d’échanges et d’informations seront dédiés à la Vie du Réseau.\nDimanche 7 : 10h00 : Culte avec Marty - 12h30 : Repas communautaire\n\nRepas et hébergement : \n\nRepas: Un service de restauration est organisé pendant toute la durée du séminaire.\n\nHébergements possibles : Centre d’accueil et d’hébergement ou chez des membres de l'assemblée dans la limite des places.\n\nHôtels : Le Lion Vert\, Hexagone\, Beau-Site\, Résidence des Sources\, le Rallye.\n\nGites ruraux : http://www.lesetangsducrau.com/\n\nTarifs : \n\nLes tarifs ci-dessous sont les coûts d’organisation donnés pour votre information : Repas : 5 €\, Formation : 30 € Hébergement au centre : 10 €/nuit
URL:http://resodace.org/evenement/seminaire-les-secrets-de-famille/
LOCATION:47 bis rue de Grammont\, Luxeuil-les-Bains\, 70300\, France
CATEGORIES:séminaire
ORGANIZER;CN="Odace":MAILTO:resodace@gmail.com
END:VEVENT
END:VCALENDAR