BEGIN:VCALENDAR
VERSION:2.0
PRODID:-//Odace - ECPv4.1.2//NONSGML v1.0//EN
CALSCALE:GREGORIAN
METHOD:PUBLISH
X-WR-CALNAME:Odace
X-ORIGINAL-URL:http://resodace.org
X-WR-CALDESC:Events for Odace
BEGIN:VEVENT
DTSTART;TZID=UTC+1:20160714T080000
DTEND;TZID=UTC+1:20160715T170000
DTSTAMP:20260421T111225
CREATED:20160614T115224
LAST-MODIFIED:20160615T100314
UID:1428-1468483200-1468602000@resodace.org
SUMMARY:Séminaire : La Famille et le couple
DESCRIPTION:Deux journée de formation et détente\, en introduction à la rencontre annuelle du réseau Odace\, le 16 juillet\n\njeudi 14 juillet : randonnée et conférence\n• 10h Randonnée au Plateau des Mille Etangs\, Vosges (ralliement 9h45 Eglise Le Cep)\n• 20h Soirée Conférence : “Les crises de l'adolescence” par René Yoder\n\nvendredi 15 juillet : journée de formation\n• 10h - 17h : Séminaire sur le thème “La famille et le couple”\nEnseignements par René Yoder et Philippe Beaussier\, ateliers et débats\n\n\n\nINFOS PRATIQUES\n Repas des 14 et 15 sur inscription.\nPour faciliter l’organisation\, merci de confirmer votre présence pour les journées qui vous intéressent à resodace@gmail.com ou 03 84 40 48 79\n\nHébergement disponible pour ceux qui viennent de loin : 12 lits\, dans 6 chambres et un gîte. Infos sur demande.\n\n\n\n[av_button label='découvrez le programme du 16 juillet' link='manually\,http://resodace.org/evenement/rencontre-annuelle-du-reseau-odace/' link_target='' size='small' position='left' icon_select='yes' icon='ue885' font='entypo-fontello' color='custom' custom_bg='#8c408f' custom_font='#ffffff']\n\n 
URL:http://resodace.org/evenement/seminaire-la-famille-et-le-couple/
LOCATION:47 bis rue de Grammont\, Luxeuil-les-Bains\, 70300\, France
CATEGORIES:formation,séminaire
ORGANIZER;CN="Odace":MAILTO:resodace@gmail.com
END:VEVENT
END:VCALENDAR