BEGIN:VCALENDAR
VERSION:2.0
PRODID:-//Odace - ECPv4.1.2//NONSGML v1.0//EN
CALSCALE:GREGORIAN
METHOD:PUBLISH
X-WR-CALNAME:Odace
X-ORIGINAL-URL:http://resodace.org
X-WR-CALDESC:Events for Odace
BEGIN:VEVENT
DTSTART;TZID=UTC+1:20170414T180000
DTEND;TZID=UTC+1:20170416T160000
DTSTAMP:20260421T001709
CREATED:20170323T203652
LAST-MODIFIED:20170323T203652
UID:1556-1492192800-1492358400@resodace.org
SUMMARY:Séminaire de Pâques
DESCRIPTION:  
URL:http://resodace.org/evenement/seminaire-de-paques/
LOCATION:47 bis rue de Grammont\, Luxeuil-les-Bains\, 70300\, France
CATEGORIES:séminaire
ORGANIZER;CN="Odace":MAILTO:resodace@gmail.com
END:VEVENT
END:VCALENDAR