BEGIN:VCALENDAR
VERSION:2.0
PRODID:-//Odace - ECPv4.1.2//NONSGML v1.0//EN
CALSCALE:GREGORIAN
METHOD:PUBLISH
X-WR-CALNAME:Odace
X-ORIGINAL-URL:http://resodace.org
X-WR-CALDESC:Events for Odace
BEGIN:VEVENT
DTSTART;VALUE=DATE:20150712
DTEND;VALUE=DATE:20150714
DTSTAMP:20260422T000421
CREATED:20150518
LAST-MODIFIED:20160430
UID:1188-1436659200-1436918399@resodace.org
SUMMARY:Rencontre du réseau ODACE 2015
DESCRIPTION:Rencontre annuelle des groupes et églises du réseau Odace. Thème : une église en marche.\n\nUn temps d'encouragement et de partage.\n\nTélécharger le programme (pdf)
URL:http://resodace.org/evenement/rencontre-du-reseau-odace-2015/
CATEGORIES:rencontre
END:VEVENT
END:VCALENDAR