BEGIN:VCALENDAR
VERSION:2.0
PRODID:-//Odace - ECPv4.1.2//NONSGML v1.0//EN
CALSCALE:GREGORIAN
METHOD:PUBLISH
X-WR-CALNAME:Odace
X-ORIGINAL-URL:http://resodace.org
X-WR-CALDESC:Events for Odace
BEGIN:VEVENT
DTSTART;VALUE=DATE:20140714
DTEND;VALUE=DATE:20140714
DTSTAMP:20260422T015026
CREATED:20140701
LAST-MODIFIED:20160414
UID:845-1405296000-1405382399@resodace.org
SUMMARY:Rencontre du réseau 2014
DESCRIPTION:Pour la 5ème année consécutive nous organisons\, le 14 juillet\, un temps d’édification et de partage.\n\nChers partenaires\, amis\, membres et ouvriers du réseau ODACE\, vous êtes très cordialement invités pour la journée ou le week-end du 14 juillet.\n\nPour les éloignés n’hésitez pas à profiter de notre capacité d’accueil (12 lits dans 6 chambres et un gîte)\n\n 
URL:http://resodace.org/evenement/rencontre-du-reseau-2014/
LOCATION:47 bis rue de Grammont\, Luxeuil-les-Bains\, 70300\, France
CATEGORIES:rencontre
ORGANIZER;CN="Odace":MAILTO:resodace@gmail.com
END:VEVENT
END:VCALENDAR