BEGIN:VCALENDAR
VERSION:2.0
PRODID:-//Odace - ECPv4.1.2//NONSGML v1.0//EN
CALSCALE:GREGORIAN
METHOD:PUBLISH
X-WR-CALNAME:Odace
X-ORIGINAL-URL:http://resodace.org
X-WR-CALDESC:Events for Odace
BEGIN:VEVENT
DTSTART;TZID=UTC+1:20110514T100000
DTEND;TZID=UTC+1:20110514T160000
DTSTAMP:20260422T214714
CREATED:20110415T185208
LAST-MODIFIED:20160430T185413
UID:1182-1305367200-1305388800@resodace.org
SUMMARY:Rencontre avec Bob Cole
DESCRIPTION:Rencontre d’encouragement et d’édification ouverte à tous\, sur le thème : l’énoncé de mission personnel.\n\nEconomiste de formation\, Bob Cole a fondé en 1976 l’Eglise « Victory Tabernacle » à Seattle\, USA avec sa femme Lorraine\, et l’a dirigé jusqu’en 2008.\n\nDepuis 1990 il exerce un ministère apostolique itinérant et international ; il séjourne actuellement plus d’un tiers de chaque année en Europe. En Allemagne par exemple\, il soutient et conseille plus de 100 églises tout en  partageant ses expériences.\n\nSelon lui\, l’enseignement doit être vrai\, clair et facile à mettre en œuvre. Ses messages sont très pratiques pour grandir dans sa vie avec Dieu et ses prophéties communiquent de réelles clés pour aller plus loin.\n\n \n\nInfos pratiques :\n\nle samedi 14 mai à Vesoul de 10h à 16h\n\nSalle du Pont du Tacot  19 rue Henri Poincaré 70000 Vesoul\n\nPrévoyez d'apporter un repas\, prise en charge des enfants assurée
URL:http://resodace.org/evenement/rencontre-avec-bob-cole/
LOCATION:19 rue Henri Poincaré\, Vesoul\, 70000\, France
CATEGORIES:rencontre
ORGANIZER;CN="Odace":MAILTO:resodace@gmail.com
END:VEVENT
END:VCALENDAR