BEGIN:VCALENDAR
VERSION:2.0
PRODID:-//Odace - ECPv4.1.2//NONSGML v1.0//EN
CALSCALE:GREGORIAN
METHOD:PUBLISH
X-WR-CALNAME:Odace
X-ORIGINAL-URL:http://resodace.org
X-WR-CALDESC:Events for Odace
BEGIN:VEVENT
DTSTART;TZID=UTC+1:20170714T100000
DTEND;TZID=UTC+1:20170716T170000
DTSTAMP:20260420T204755
CREATED:20170615T132412
LAST-MODIFIED:20170615T132723
UID:1567-1500026400-1500224400@resodace.org
SUMMARY:RENCONTRE ANNUELLE DU RESEAU
DESCRIPTION:Réservez les dates\, en particulier celle du samedi 15 juillet et n'hésitez pas à y inviter vos amis. Inscrivez-vous sur resodace@gmail.com\n\n 
URL:http://resodace.org/evenement/rencontre-annuelle-du-reseau/
LOCATION:47 bis rue de Grammont\, Luxeuil-les-Bains\, 70300\, France
CATEGORIES:rencontre
ORGANIZER;CN="Odace":MAILTO:resodace@gmail.com
END:VEVENT
END:VCALENDAR