BEGIN:VCALENDAR
VERSION:2.0
PRODID:-//Odace - ECPv4.1.2//NONSGML v1.0//EN
CALSCALE:GREGORIAN
METHOD:PUBLISH
X-WR-CALNAME:Odace
X-ORIGINAL-URL:http://resodace.org
X-WR-CALDESC:Events for Odace
BEGIN:VEVENT
DTSTART;VALUE=DATE:20160716
DTEND;VALUE=DATE:20160716
DTSTAMP:20260421T110751
CREATED:20160423
LAST-MODIFIED:20160614
UID:1155-1468627200-1468713599@resodace.org
SUMMARY:Rencontre annuelle du réseau ODACE
DESCRIPTION:Le rendez-vous annuel du réseau Odace\, samedi 16 juillet 2016\, à ne pas manquer !\n\nLe programme :\n• 10h Rencontre plénière\n- Partage de la vie des groupes\n- Message “la Nouvelle Réforme” par Philippe Beaussier\n• Midi Barbecue\n• Après-midi Détente : balades\, jeux d’extérieur et ateliers de discussion\n\nLe barbecue du midi est offert\, il ne manque plus que vos salades et/ou desserts !\n\nSi vous souhaitez\, vous pouvez prolonger ce temps de rencontre\, en nous rejoignant les jours précédents\, les 14 et 15 juillet\, pour un temps d'enseignement et de détente.\n\n[av_button label='découvrez le programme des 14 et 15 juillet' link='manually\,http://resodace.org/evenement/seminaire-la-famille-et-le-couple/' link_target='' size='small' position='left' icon_select='yes' icon='ue885' font='entypo-fontello' color='theme-color' custom_bg='#444444' custom_font='#ffffff']\n\n\n\n 
URL:http://resodace.org/evenement/rencontre-annuelle-du-reseau-odace/
LOCATION:47 bis rue de Grammont\, Luxeuil-les-Bains\, 70300\, France
CATEGORIES:rencontre
ORGANIZER;CN="Odace":MAILTO:resodace@gmail.com
END:VEVENT
END:VCALENDAR