BEGIN:VCALENDAR
VERSION:2.0
PRODID:-//Odace - ECPv4.1.2//NONSGML v1.0//EN
CALSCALE:GREGORIAN
METHOD:PUBLISH
X-WR-CALNAME:Odace
X-ORIGINAL-URL:http://resodace.org
X-WR-CALDESC:Events for Odace
BEGIN:VEVENT
DTSTART;VALUE=DATE:20180713
DTEND;VALUE=DATE:20180715
DTSTAMP:20260420T095816
CREATED:20180122
LAST-MODIFIED:20180705
UID:1581-1531440000-1531699199@resodace.org
SUMMARY:RENCONTRE ANNUELLE DU RESEAU
DESCRIPTION: 
URL:http://resodace.org/evenement/rencontre-annuelle-du-reseau-2/
LOCATION:47 bis rue de Grammont\, Luxeuil-les-Bains\, 70300\, France
ORGANIZER;CN="Odace":MAILTO:resodace@gmail.com
END:VEVENT
END:VCALENDAR