BEGIN:VCALENDAR
VERSION:2.0
PRODID:-//Odace - ECPv4.1.2//NONSGML v1.0//EN
CALSCALE:GREGORIAN
METHOD:PUBLISH
X-WR-CALNAME:Odace
X-ORIGINAL-URL:http://resodace.org
X-WR-CALDESC:Events for Odace
BEGIN:VEVENT
DTSTART;TZID=UTC+1:20170617T200000
DTEND;TZID=UTC+1:20170617T220000
DTSTAMP:20260420T222255
CREATED:20170615T131923
LAST-MODIFIED:20170615T132022
UID:1561-1497729600-1497736800@resodace.org
SUMMARY:Magnétiseurs\, Barreurs\, hypnotiseurs ...
DESCRIPTION:flyer-ja cqueline-fresard-munsch
URL:http://resodace.org/evenement/magnetiseurs-barreurs-hypnotiseurs/
CATEGORIES:conférence
END:VEVENT
END:VCALENDAR