BEGIN:VCALENDAR
VERSION:2.0
PRODID:-//Odace - ECPv4.1.2//NONSGML v1.0//EN
CALSCALE:GREGORIAN
METHOD:PUBLISH
X-WR-CALNAME:Odace
X-ORIGINAL-URL:http://resodace.org
X-WR-CALDESC:Events for Odace
BEGIN:VEVENT
DTSTART;VALUE=DATE:20180519
DTEND;VALUE=DATE:20180520
DTSTAMP:20260420T132447
CREATED:20180122
LAST-MODIFIED:20180122
UID:1580-1526688000-1526860799@resodace.org
SUMMARY:Le prophète et l'équipe apostolique
DESCRIPTION:Avec Philippe BEAUSSIER
URL:http://resodace.org/evenement/le-prophete-et-lequipe-apostolique/
LOCATION:47 bis rue de Grammont\, Luxeuil-les-Bains\, 70300\, France
CATEGORIES:séminaire
END:VEVENT
END:VCALENDAR