BEGIN:VCALENDAR
VERSION:2.0
PRODID:-//Odace - ECPv4.1.2//NONSGML v1.0//EN
CALSCALE:GREGORIAN
METHOD:PUBLISH
X-WR-CALNAME:Odace
X-ORIGINAL-URL:http://resodace.org
X-WR-CALDESC:Events for Odace
BEGIN:VEVENT
DTSTART;TZID=UTC+1:20190607T180000
DTEND;TZID=UTC+1:20190609T160000
DTSTAMP:20260420T132239
CREATED:20190320T144110
LAST-MODIFIED:20190320T144110
UID:1591-1559930400-1560096000@resodace.org
SUMMARY:Le HUB conférence jeunesse 15-35 ans
DESCRIPTION:Evènement recommandé par le réseau - voir site internet indiqué\n\n
URL:http://resodace.org/evenement/le-hub-conference-jeunesse-15-35-ans/
LOCATION:France
CATEGORIES:conférence
END:VEVENT
END:VCALENDAR