BEGIN:VCALENDAR
VERSION:2.0
PRODID:-//Odace - ECPv4.1.2//NONSGML v1.0//EN
CALSCALE:GREGORIAN
METHOD:PUBLISH
X-WR-CALNAME:Odace
X-ORIGINAL-URL:http://resodace.org
X-WR-CALDESC:Events for Odace
BEGIN:VEVENT
DTSTART;TZID=UTC+1:20180428T093000
DTEND;TZID=UTC+1:20180428T163000
DTSTAMP:20260420T133425
CREATED:20180423T071956
LAST-MODIFIED:20180423T071956
UID:1583-1524907800-1524933000@resodace.org
SUMMARY:Le chrétien et l'argent
DESCRIPTION: 
URL:http://resodace.org/evenement/le-chretien-et-largent-2/
LOCATION:47 bis rue de Grammont\, Luxeuil-les-Bains\, 70300\, France
ORGANIZER;CN="ODACE%20%26amp%3B%20LE%20CEP":MAILTO:resodace@gmail.com
END:VEVENT
END:VCALENDAR