BEGIN:VCALENDAR
VERSION:2.0
PRODID:-//Odace - ECPv4.1.2//NONSGML v1.0//EN
CALSCALE:GREGORIAN
METHOD:PUBLISH
X-WR-CALNAME:Odace
X-ORIGINAL-URL:http://resodace.org
X-WR-CALDESC:Events for Odace
BEGIN:VEVENT
DTSTART;VALUE=DATE:20180317
DTEND;VALUE=DATE:20180317
DTSTAMP:20260420T171602
CREATED:20180122
LAST-MODIFIED:20180122
UID:1577-1521244800-1521331199@resodace.org
SUMMARY:La personnalité du prophète
DESCRIPTION:Avec Philippe BEAUSSIER
URL:http://resodace.org/evenement/la-personnalite-du-prophete/
LOCATION:47 bis rue de Grammont\, Luxeuil-les-Bains\, 70300\, France
CATEGORIES:séminaire
END:VEVENT
END:VCALENDAR