BEGIN:VCALENDAR
VERSION:2.0
PRODID:-//Odace - ECPv4.1.2//NONSGML v1.0//EN
CALSCALE:GREGORIAN
METHOD:PUBLISH
X-WR-CALNAME:Odace
X-ORIGINAL-URL:http://resodace.org
X-WR-CALDESC:Events for Odace
BEGIN:VEVENT
DTSTART;TZID=UTC+1:20160625T200000
DTEND;TZID=UTC+1:20160625T200000
DTSTAMP:20260421T125808
CREATED:20160502T152100
LAST-MODIFIED:20160502T152548
UID:1216-1466884800-1466884800@resodace.org
SUMMARY:Concert de Glorious
DESCRIPTION:Les églises chrétiennes du Val de Morteau vous invitent à une veillée œcuménique de chants et de prière conduite par le groupe Glorious. Soyez les bienvenus !\nGlorious est un groupe de "pop louange" catholique français. Fondé en 2002 par trois frères originaires de Valence (69)\, le groupe a à ce jour sorti 6 albums studios et deux albums live. Avec plus de 100 000 albums vendus et plus de 50 concerts par an\, en France et en Europe\, Glorious continue de sillonner les paroisses de France pour animer des soirées de louange rassemblant à chaque fois 500 à 1000 personnes.\n\nSoirée organisée par la Paroisse catholique du Val de Morteau\, l'Eglise protestante unie du Haut-Doubs\, l'Eglise protestante évangélique du Haut-Doubs\n\nAttention places limitées ! Tarif préférentiel jusqu'au 1er juin (12€ au lieu de 15) en réservant votre billet en ligne.\n\nhttps://youtu.be/UmGZSzc27Pk\n\n 
URL:http://resodace.org/evenement/glorious-concert-de-louange/
LOCATION:rue du Stade\, Villers-le-Lac\, 25130
CATEGORIES:concert
END:VEVENT
END:VCALENDAR