BEGIN:VCALENDAR
VERSION:2.0
PRODID:-//Odace - ECPv4.1.2//NONSGML v1.0//EN
CALSCALE:GREGORIAN
METHOD:PUBLISH
X-WR-CALNAME:Odace
X-ORIGINAL-URL:http://resodace.org
X-WR-CALDESC:Events for Odace
BEGIN:VEVENT
DTSTART;VALUE=DATE:20110308
DTEND;VALUE=DATE:20110309
DTSTAMP:20260422T232813
CREATED:20110215
LAST-MODIFIED:20160430
UID:1178-1299542400-1299715199@resodace.org
SUMMARY:Convention des Ministères
DESCRIPTION:Un moment de Ressourcement\, de Relation et de Réflexion\nau Centre du Plein Evangile « Le Chandelier »\n33 avenue de Vizille - 38000 Grenoble\nODACE sera présent avec un stand.\n\nLundi 7 - 14h00: rencontre de la F.E.P.E.F. (Fédération des Eglises du Plein Evangile de France) \nMardi 8 et mercredi 9 - 9h00 : rencontre de l’A.S.F. (Alliance Spirituelle et Fraternelle)\nMercredi 9 à 20h00 : réunion publique avec Paul GOULET\, pasteur francophone d’une église de 6000 personnes à Las Vegas aux Etats-Unis. Il vient parmi nous pour délivrer un message puissant d’espoir et de guérison.
URL:http://resodace.org/evenement/convention-des-ministeres/
LOCATION:33 avenue de Vizille\, Grenoble\, 38000\, France
CATEGORIES:convention
END:VEVENT
END:VCALENDAR