BEGIN:VCALENDAR
VERSION:2.0
PRODID:-//Odace - ECPv4.1.2//NONSGML v1.0//EN
CALSCALE:GREGORIAN
METHOD:PUBLISH
X-WR-CALNAME:Odace
X-ORIGINAL-URL:http://resodace.org
X-WR-CALDESC:Events for Odace
BEGIN:VEVENT
DTSTART;TZID=UTC+1:20160430T200000
DTEND;TZID=UTC+1:20160430T200000
DTSTAMP:20260421T162725
CREATED:20160303T174358
LAST-MODIFIED:20160414T103715
UID:869-1462046400-1462046400@resodace.org
SUMMARY:Conférence : Magie Blanche et après ?
DESCRIPTION:Soirée organisée par Siloé\, Eglise Evangélique de St Maurice Colombier.\nThème : Guérisseurs\, magnétiseurs\, .... Magie Blanche et après ? Comment en sortir ?\n\nJacqueline Frésard-Munsch\, ancienne guérisseuse\, partage son témoignage. Une personne lui transmet « le Secret »\, une prière pour guérir\, qu’elle pratique plusieurs années. Contente d’aider les autres\, elle est aussi de plus en plus liée\, oppressée\, dépressive\, malade\, elle se rend compte que la magie blanche détruit sa vie. Découvrez comment elle trouve une puissance plus forte qui la libère et comment sa vie est transformée.\n\nPossibilité de prière sur simple demande à la fin de la conférence\n\n 
URL:http://resodace.org/evenement/conference-magie-blanche-et-apres/
LOCATION:Salle des Fêtes 8 rue de L'Eglise\, Solemont\, 25190\, France
CATEGORIES:conférence
END:VEVENT
END:VCALENDAR