BEGIN:VCALENDAR
VERSION:2.0
PRODID:-//Odace - ECPv4.1.2//NONSGML v1.0//EN
CALSCALE:GREGORIAN
METHOD:PUBLISH
X-WR-CALNAME:Odace
X-ORIGINAL-URL:http://resodace.org
X-WR-CALDESC:Events for Odace
BEGIN:VEVENT
DTSTART;TZID=UTC+1:20170225T203000
DTEND;TZID=UTC+1:20170225T223000
DTSTAMP:20260421T032535
CREATED:20170124T095352
LAST-MODIFIED:20170218T084851
UID:1537-1488054600-1488061800@resodace.org
SUMMARY:Comédie Musicale TOUS EN ROUTE
DESCRIPTION:http://www.radioomega.fr/site/article-ch-ur-d-espoir---tous-en-route---le-russey.html\n\n
URL:http://resodace.org/evenement/comedie-musicale-tous-en-route/
END:VEVENT
END:VCALENDAR