BEGIN:VCALENDAR
VERSION:2.0
PRODID:-//Odace - ECPv4.1.2//NONSGML v1.0//EN
CALSCALE:GREGORIAN
METHOD:PUBLISH
X-WR-CALNAME:Odace
X-ORIGINAL-URL:http://resodace.org
X-WR-CALDESC:Events for Odace
BEGIN:VEVENT
DTSTART;TZID=UTC+1:20160730T203000
DTEND;TZID=UTC+1:20160803T230000
DTSTAMP:20260421T080541
CREATED:20160423T195750
LAST-MODIFIED:20160424T162212
UID:1159-1469910600-1470265200@resodace.org
SUMMARY:Cévennes Tout Est Possible
DESCRIPTION:Les réunions qui se vivront dans l'unité et le respect des églises\, catholiques\, protestantes (réformés\, luthériens\, évangéliques)\, orthodoxes\, auront pour thème le Psaume 103/3-4 : "C'est Lui qui pardonne toutes tes iniquités\, qui guérit toutes tes maladies ; c'est Lui qui délivre ta vie de la fosse\, qui te couronne de bonté et de miséricorde".\n \n\n 
URL:http://resodace.org/evenement/cevennes-tout-est-possible/
LOCATION: 500 chemin du Moulin\, Gagnières\, 30160\, France
CATEGORIES:convention
ORGANIZER;CN="Paris%20Tout%20Est%20Possible":MAILTO:ccg@ccgagnieres.info
END:VEVENT
END:VCALENDAR