BEGIN:VCALENDAR
VERSION:2.0
PRODID:-//Odace - ECPv4.1.2//NONSGML v1.0//EN
CALSCALE:GREGORIAN
METHOD:PUBLISH
X-WR-CALNAME:Odace
X-ORIGINAL-URL:http://resodace.org
X-WR-CALDESC:Events for Odace
BEGIN:VEVENT
DTSTART;VALUE=DATE:20120719
DTEND;VALUE=DATE:20120722
DTSTAMP:20260422T095240
CREATED:20120405
LAST-MODIFIED:20160430
UID:1187-1342656000-1343001599@resodace.org
SUMMARY:Camp de jeunes 2012
DESCRIPTION:Séjour cultuel organisé pour les jeunes\n\nHébergement : Gite ou tente au choix\n\nDépart : jeudi 19 juillet\n\nRetour : Dimanche 22 juillet\n\nP.A.F. : 60 €\n\nInfos et inscriptions : Manu Jamey 06-31-05-86-38
URL:http://resodace.org/evenement/camp-de-jeunes-2012/
CATEGORIES:camp d'été
END:VEVENT
END:VCALENDAR