BEGIN:VCALENDAR
VERSION:2.0
PRODID:-//Odace - ECPv4.1.2//NONSGML v1.0//EN
CALSCALE:GREGORIAN
METHOD:PUBLISH
X-WR-CALNAME:Odace
X-ORIGINAL-URL:http://resodace.org
X-WR-CALDESC:Events for Odace
BEGIN:VEVENT
DTSTART;VALUE=DATE:20110718
DTEND;VALUE=DATE:20110723
DTSTAMP:20260422T214000
CREATED:20110405
LAST-MODIFIED:20160430
UID:1185-1310947200-1311465599@resodace.org
SUMMARY:Camp de jeunes été 2011
DESCRIPTION:Le séjour est organisée par l'Association l'Entraide (attachée à l'Eglise Evangélique Le CEP de Luxeuil les Bains).\n\nIl s'adresse à tous les jeunes de 12 à 17 ans intéressés par des temps forts entre jeunes. Au programme : activités ludiques et sportives\, jeu de piste\, baignades\, découverte\, amitiés\, partage de la foi\,...\n\nLe camp se déroule dans des locaux en durs à Rioz (70).\n\nLe coût du séjour est de 130 € tous frais compris (au départ de Luxeuil ou de Besançon). Les bons CAF sont acceptés.\n\n 
URL:http://resodace.org/evenement/camp-de-jeune/
CATEGORIES:camp d'été
END:VEVENT
END:VCALENDAR