BEGIN:VCALENDAR
VERSION:2.0
PRODID:-//Odace - ECPv4.1.2//NONSGML v1.0//EN
CALSCALE:GREGORIAN
METHOD:PUBLISH
X-WR-CALNAME:Odace
X-ORIGINAL-URL:http://resodace.org
X-WR-CALDESC:Events for Odace
BEGIN:VEVENT
DTSTART;VALUE=DATE:20120614
DTEND;VALUE=DATE:20120614
DTSTAMP:20260422T132925
CREATED:20120515
LAST-MODIFIED:20160430
UID:1184-1339632000-1339718399@resodace.org
SUMMARY:Bob Cole enseigne
DESCRIPTION:Bob Cole vient des USA\, économiste de formation\, Bob Cole a fondé en 1976 l’Eglise « Victory Tabernacle » à Seattle avec sa femme Lorraine\, et l’a dirigée jusqu’en 2008.\n\nDepuis 2010 il exerce un ministère apostolique itinérant et international ; actuellement il séjourne plus d’un tiers de chaque année en Europe. En Allemagne par exemple\, il soutient et conseille plus de 100 églises tout en partageant ses expériences.\n\nSelon lui\, l’enseignement doit être vrai\, clair et facile à mettre en œuvre.\n\nSes messages sont très pratiques pour grandir dans sa vie avec Dieu et ses prophéties communiquent de réelles clés pour aller plus loin.
URL:http://resodace.org/evenement/bob-cole-enseigne-2/
CATEGORIES:conférence
ORGANIZER;CN="Odace":MAILTO:resodace@gmail.com
END:VEVENT
END:VCALENDAR