BEGIN:VCALENDAR
VERSION:2.0
PRODID:-//Odace - ECPv4.1.2//NONSGML v1.0//EN
CALSCALE:GREGORIAN
METHOD:PUBLISH
X-WR-CALNAME:Odace
X-ORIGINAL-URL:http://resodace.org
X-WR-CALDESC:Events for Odace
BEGIN:VEVENT
DTSTART;VALUE=DATE:20110826
DTEND;VALUE=DATE:20110828
DTSTAMP:20260422T184053
CREATED:20110701
LAST-MODIFIED:20160430
UID:1180-1314316800-1314575999@resodace.org
SUMMARY:2ème journée missionnaire
DESCRIPTION:Objectif de la rencontre: susciter et entretenir la vision de la mission en France\n\nOrateur : Michel BALVERDE fondateur du CIJEM et à l'origine du Top Chrétien et\, en invité surprise\, un ouvrier de l'ombre au Maroc\n\nProgramme :\n\n- Vendredi 26  : Accueil à partir de 16h\, puis dîner. En soirée débat et exposé sur la vie des groupes\, les difficultés du témoignage et les résistances à l'annonce de l’Evangile.\n- Samedi 27 de 10 à 17 h: Conférence : Implanter de nouvelles églises: stratégies et difficultés. Puis débat et compte-rendu des activités du réseau ODACE.\n- Samedi 27: Soirée marocaine avec un ouvrier de l'ombre\n- Dimanche 28 : Culte avec l’église locale et message de Michel BALVERDE.\n\nModalités pratiques\n\n* Des repas (déjeuner et dîner) seront proposés sur place pour 3 € (moyennant inscription)\, mais il est possible aussi d'apporter son déjeuner ou dîner sous forme de pique-nique.\nPour le repas sur place\, merci de vous inscrire auprès de Sonia Yoder\, en appelant au 03 84 40 48 79\nLes enfants sont les bienvenus. Un programme spécifique leur sera proposé durant la journée du samedi.\nUn hébergement est envisageable pour ceux qui souhaiteraient rester toute la durée de la conférence.
URL:http://resodace.org/evenement/2eme-journee-missionnaire/
LOCATION:47 bis rue de Grammont\, Luxeuil-les-Bains\, 70300\, France
CATEGORIES:rencontre
ORGANIZER;CN="Odace":MAILTO:resodace@gmail.com
END:VEVENT
END:VCALENDAR